BEGIN:VCALENDAR
VERSION:2.0
PRODID:-//Art Center Waco - ECPv6.15.20//NONSGML v1.0//EN
CALSCALE:GREGORIAN
METHOD:PUBLISH
X-WR-CALNAME:Art Center Waco
X-ORIGINAL-URL:https://artcenterwaco.org
X-WR-CALDESC:Events for Art Center Waco
REFRESH-INTERVAL;VALUE=DURATION:PT1H
X-Robots-Tag:noindex
X-PUBLISHED-TTL:PT1H
BEGIN:VTIMEZONE
TZID:America/Chicago
BEGIN:DAYLIGHT
TZOFFSETFROM:-0600
TZOFFSETTO:-0500
TZNAME:CDT
DTSTART:20250309T080000
END:DAYLIGHT
BEGIN:STANDARD
TZOFFSETFROM:-0500
TZOFFSETTO:-0600
TZNAME:CST
DTSTART:20251102T070000
END:STANDARD
BEGIN:DAYLIGHT
TZOFFSETFROM:-0600
TZOFFSETTO:-0500
TZNAME:CDT
DTSTART:20260308T080000
END:DAYLIGHT
BEGIN:STANDARD
TZOFFSETFROM:-0500
TZOFFSETTO:-0600
TZNAME:CST
DTSTART:20261101T070000
END:STANDARD
BEGIN:DAYLIGHT
TZOFFSETFROM:-0600
TZOFFSETTO:-0500
TZNAME:CDT
DTSTART:20270314T080000
END:DAYLIGHT
BEGIN:STANDARD
TZOFFSETFROM:-0500
TZOFFSETTO:-0600
TZNAME:CST
DTSTART:20271107T070000
END:STANDARD
END:VTIMEZONE
BEGIN:VEVENT
DTSTART;TZID=America/Chicago:20260204T080000
DTEND;TZID=America/Chicago:20260724T170000
DTSTAMP:20260419T141821
CREATED:20260204T203851Z
LAST-MODIFIED:20260407T163534Z
UID:6528-1770192000-1784912400@artcenterwaco.org
SUMMARY:Summer Camp 2026 Registration
DESCRIPTION:Early Bird pricing is extended for the entire summer! Thanks to generous support from Amazon Prime Air and our community\, we’re expanding access for more young artists. \nScholarships available—HERE because art is for everyone. \nRegister now—spaces are filling fast: \nWelcome to Around the World with Art at Art Center Waco! \nPack your imagination—we’re traveling the globe! This summer\, campers explore world cultures through hands-on art\, storytelling\, and gallery adventures at Art Center Waco and the Flora Cameron Gallery\, earning a new passport stamp each week as they create inspired\, global artwork. \nKINDER CAMP (Ages 3-4) \n\nJune 15 – 18 (No Camp\, June 19) | 9 AM – 11:30 AM | $100 (4-day week)\nJune 22 – 26 | 9 AM – 11:30 AM | $120\n\n  \nELEMENTARY CAMP (Rising 1st-6th grade) \nWeek 1: Africa – Patterns & Prints \n\nJune 15 – 18 (No Camp June 19) | Half Day Sessions\, 9 AM – 12 PM or 1 PM – 4 PM | $175 (5-day week)\n\n  \nWeek 2: Japan & East Asia – Paper & Ink \n\nJune 22 – 26 | Full Day Sessions\, 9 AM – 3 PM | $275\n\n  \nWeek 3: Mexico & Latin American – Color & Celebration  \n\nJuly 6 – 10 | Half Day Sessions\, 9 AM – 12 PM or 1 PM – 4 PM | $175 (5-day week)\n\n  \nWeek 4: Europe – Medieval & Renaissance Art \n\nJuly 13 – 17 | Full Day Sessions\, 9 AM – 3 PM | $275\n\n  \nWeek 5: Oceania & Indigenous Cultures – Storytelling Through Art \n\nJuly 20 – 24 | Half Day Sessions\, 9 AM – 12 PM or 1 PM – 4 PM | $175 (5-day week)\n\n  \nTEEN CAMP (Rising 7th-12th grade) \nWeek 6: World Fusion & Exhibition  \n\nJuly 27 – July 31 | Full Day Sessions | 9 AM – 4:00 PM | $275
URL:https://artcenterwaco.org/event/summer-camp-2026-registration/
LOCATION:Art Center Waco\, 701 S 8th Street\, Waco\, 76706\, United States
CATEGORIES:Summer Camp
ATTACH;FMTTYPE=image/png:https://artcenterwaco.org/wp-content/uploads/2026/02/summer-camp-media-drafts.png
ORGANIZER;CN="Education Program Manager":MAILTO:desiree@artcenterwaco.org
END:VEVENT
BEGIN:VEVENT
DTSTART;TZID=America/Chicago:20260521T180000
DTEND;TZID=America/Chicago:20260521T200000
DTSTAMP:20260419T141821
CREATED:20260324T204713Z
LAST-MODIFIED:20260324T204713Z
UID:6879-1779386400-1779393600@artcenterwaco.org
SUMMARY:Urban Stories Photography Exhibit Opening Reception
DESCRIPTION:Join Art Center Waco for the opening of Urban Stories\, a juried photography exhibition exploring the beauty\, complexity\, and humanity of everyday life in our cities and towns. Featuring work by emerging and established photographers from across Central Texas\, this exhibition highlights authentic moments—from bustling streets to quiet neighborhood scenes—revealing the extraordinary within the ordinary. \nJuried by Greg Davis of Fort Worth\, Urban Stories brings together diverse perspectives that capture the people\, places\, and connections that shape our shared urban experience. \nExperience the exhibition\, meet the artists\, and explore a compelling collection of contemporary photography. \nOn view May 21 – June 27\, 2026.
URL:https://artcenterwaco.org/event/urban-stories-photography-exhibit-opening-reception/
LOCATION:Beard Gallery | Art Center Waco\, 701 S 8th Street\, Waco\, 76706\, United States
CATEGORIES:Exhibits,Main Galleries
ATTACH;FMTTYPE=image/jpeg:https://artcenterwaco.org/wp-content/uploads/2026/03/urban-photography-social-mediamarketing-kits-2-1.jpg
ORGANIZER;CN="Exhibits":MAILTO:bella@artcenterwaco.org
END:VEVENT
BEGIN:VEVENT
DTSTART;TZID=America/Chicago:20260522T173000
DTEND;TZID=America/Chicago:20260522T190000
DTSTAMP:20260419T141821
CREATED:20260324T205104Z
LAST-MODIFIED:20260325T215559Z
UID:6883-1779471000-1779476400@artcenterwaco.org
SUMMARY:Urban Stories Photography Artist Talk
DESCRIPTION:Join us for an Artist Talk with juror Greg Davis as part of Urban Stories. Featuring selected artists from the exhibition\, this conversation offers insight into the creative processes\, perspectives\, and stories behind their work. \nExplore how photographers capture the rhythms of everyday life—from fleeting street moments to deeply personal narratives—and gain a deeper understanding of the themes that shape this juried exhibition.
URL:https://artcenterwaco.org/event/urban-stories-photography-artist-talk/
LOCATION:Beard Gallery | Art Center Waco\, 701 S 8th Street\, Waco\, 76706\, United States
CATEGORIES:Artist Talk,Exhibits
ATTACH;FMTTYPE=image/jpeg:https://artcenterwaco.org/wp-content/uploads/2026/03/urban-photography-social-mediamarketing-kits-2-1.jpg
ORGANIZER;CN="Exhibits":MAILTO:bella@artcenterwaco.org
END:VEVENT
BEGIN:VEVENT
DTSTART;TZID=America/Chicago:20260703T180000
DTEND;TZID=America/Chicago:20260703T220000
DTSTAMP:20260419T141821
CREATED:20260325T203439Z
LAST-MODIFIED:20260411T151833Z
UID:6897-1783101600-1783116000@artcenterwaco.org
SUMMARY:Celebrating 250 Years of Independence | The American Dream
DESCRIPTION:Kick Off Your July 4th Weekend With an Epic Night of Music & Celebration \nA public arts and fundraising event at Art Center Waco \nJuly 3 • 6:00 PM – 10:00 PM \nGet ready for a star-spangled evening under the Texas sky. On July 3rd\, Art Center Waco transforms into a patriotic festival of sound\, flavor\, and community at 701 S 8th Street. \nLive Music All Night\nThe evening opens with local mother-and-son duo Amy & Aaron Williams performing chart-topping pop hits as Twelve12.\nThen the stage ignites with powerhouse U2 and Coldplay tribute bands delivering the anthems you love. \nFood • Drinks • Vendors • Art\nEvery ticket includes one meal ticket and two beverage tickets. Explore local vendors\, enjoy great food\, and experience artwork created by veterans and local artists. \nBring your lawn chairs\, your friends\, and your appetite for a patriotic celebration — this is the perfect way to launch your July 4th weekend. \nTickets on sale now. Don’t miss Waco’s biggest July 3rd celebration.
URL:https://artcenterwaco.org/event/celebrating-250-years-of-independence-the-american-dream/
LOCATION:Art Center Waco\, 701 S 8th Street\, Waco\, 76706\, United States
CATEGORIES:Adults,Hosted Events at ACW
ATTACH;FMTTYPE=image/jpeg:https://artcenterwaco.org/wp-content/uploads/2026/03/july-3rd-celebration.jpg
ORGANIZER;CN="Executive Director":MAILTO:director@artcenterwaco.org
END:VEVENT
END:VCALENDAR