BEGIN:VCALENDAR
VERSION:2.0
PRODID:-//Art Center Waco - ECPv6.15.20//NONSGML v1.0//EN
CALSCALE:GREGORIAN
METHOD:PUBLISH
X-WR-CALNAME:Art Center Waco
X-ORIGINAL-URL:https://artcenterwaco.org
X-WR-CALDESC:Events for Art Center Waco
REFRESH-INTERVAL;VALUE=DURATION:PT1H
X-Robots-Tag:noindex
X-PUBLISHED-TTL:PT1H
BEGIN:VTIMEZONE
TZID:America/Chicago
BEGIN:DAYLIGHT
TZOFFSETFROM:-0600
TZOFFSETTO:-0500
TZNAME:CDT
DTSTART:20250309T080000
END:DAYLIGHT
BEGIN:STANDARD
TZOFFSETFROM:-0500
TZOFFSETTO:-0600
TZNAME:CST
DTSTART:20251102T070000
END:STANDARD
BEGIN:DAYLIGHT
TZOFFSETFROM:-0600
TZOFFSETTO:-0500
TZNAME:CDT
DTSTART:20260308T080000
END:DAYLIGHT
BEGIN:STANDARD
TZOFFSETFROM:-0500
TZOFFSETTO:-0600
TZNAME:CST
DTSTART:20261101T070000
END:STANDARD
BEGIN:DAYLIGHT
TZOFFSETFROM:-0600
TZOFFSETTO:-0500
TZNAME:CDT
DTSTART:20270314T080000
END:DAYLIGHT
BEGIN:STANDARD
TZOFFSETFROM:-0500
TZOFFSETTO:-0600
TZNAME:CST
DTSTART:20271107T070000
END:STANDARD
END:VTIMEZONE
BEGIN:VEVENT
DTSTART;VALUE=DATE:20260423
DTEND;VALUE=DATE:20260501
DTSTAMP:20260419T141116
CREATED:20260407T164135Z
LAST-MODIFIED:20260407T171103Z
UID:7131-1776902400-1777593599@artcenterwaco.org
SUMMARY:ArtVenture: April 2026
DESCRIPTION:ArtVenture April | teens (middle + high school) \nApril 23 & April 30 | 4:45pm – 6:15pm \nMembers save 15% \nArtVenture is where teens (middle + high school) create\, connect\, and grow—building confidence\, voice\, and belonging through the transformative power of art and education. \nDesigned as a weekly creative experience\, ArtVenture gives teens the space to explore new materials\, experiment with bold ideas\, and be part of a supportive\, inspiring community. \nAll materials includedNew projects each weekNo experience needed \n$25 per session ($21.50 for members) — drop-ins welcomeScholarships available HERE—because art is for everyone \nSpots are limited—register now.
URL:https://artcenterwaco.org/event/artventure-april-2026/
LOCATION:Art Center Waco\, 701 S 8th Street\, Waco\, 76706\, United States
CATEGORIES:Teens
ATTACH;FMTTYPE=image/jpeg:https://artcenterwaco.org/wp-content/uploads/2026/04/more-text.jpg
ORGANIZER;CN="Education Program Manager":MAILTO:desiree@artcenterwaco.org
END:VEVENT
BEGIN:VEVENT
DTSTART;VALUE=DATE:20260402
DTEND;VALUE=DATE:20260426
DTSTAMP:20260419T141116
CREATED:20260402T183640Z
LAST-MODIFIED:20260402T183640Z
UID:7112-1775088000-1777161599@artcenterwaco.org
SUMMARY:More Is More Is More Exhibit
DESCRIPTION:On View During Gallery Hours | Free Admission \nMore Is More Is More: A Melody of Maximalism presents a vibrant group exhibition featuring works by Nichol Brinkman\, Niki Dionne\, Ivette Ramos Levy\, and John Storm\, celebrating bold expression\, layered narratives\, and the expansive possibilities of maximalist practice. \nBringing together soft sculpture\, fiber\, painting\, ceramics\, collage\, and mixed media\, the exhibition explores identity\, memory\, humor\, and everyday life through richly detailed and immersive works. Each artist embraces abundance—of material\, color\, and meaning—inviting viewers into dynamic visual worlds where excess becomes intention and storytelling unfolds through accumulation. \nSelect works are for sale.
URL:https://artcenterwaco.org/event/more-is-more-is-more-exhibit/
LOCATION:Beard Gallery | Art Center Waco\, 701 S 8th Street\, Waco\, 76706\, United States
ATTACH;FMTTYPE=image/jpeg:https://artcenterwaco.org/wp-content/uploads/2026/03/photo-background-1.jpg
ORGANIZER;CN="Exhibits":MAILTO:bella@artcenterwaco.org
END:VEVENT
END:VCALENDAR