BEGIN:VCALENDAR
VERSION:2.0
PRODID:-//Art Center Waco - ECPv6.15.20//NONSGML v1.0//EN
CALSCALE:GREGORIAN
METHOD:PUBLISH
X-WR-CALNAME:Art Center Waco
X-ORIGINAL-URL:https://artcenterwaco.org
X-WR-CALDESC:Events for Art Center Waco
REFRESH-INTERVAL;VALUE=DURATION:PT1H
X-Robots-Tag:noindex
X-PUBLISHED-TTL:PT1H
BEGIN:VTIMEZONE
TZID:America/Chicago
BEGIN:DAYLIGHT
TZOFFSETFROM:-0600
TZOFFSETTO:-0500
TZNAME:CDT
DTSTART:20250309T080000
END:DAYLIGHT
BEGIN:STANDARD
TZOFFSETFROM:-0500
TZOFFSETTO:-0600
TZNAME:CST
DTSTART:20251102T070000
END:STANDARD
BEGIN:DAYLIGHT
TZOFFSETFROM:-0600
TZOFFSETTO:-0500
TZNAME:CDT
DTSTART:20260308T080000
END:DAYLIGHT
BEGIN:STANDARD
TZOFFSETFROM:-0500
TZOFFSETTO:-0600
TZNAME:CST
DTSTART:20261101T070000
END:STANDARD
BEGIN:DAYLIGHT
TZOFFSETFROM:-0600
TZOFFSETTO:-0500
TZNAME:CDT
DTSTART:20270314T080000
END:DAYLIGHT
BEGIN:STANDARD
TZOFFSETFROM:-0500
TZOFFSETTO:-0600
TZNAME:CST
DTSTART:20271107T070000
END:STANDARD
END:VTIMEZONE
BEGIN:VEVENT
DTSTART;TZID=America/Chicago:20260505T173000
DTEND;TZID=America/Chicago:20260505T203000
DTSTAMP:20260424T174847
CREATED:20260424T194914Z
LAST-MODIFIED:20260424T194914Z
UID:7222-1778002200-1778013000@artcenterwaco.org
SUMMARY:WISD | District Art Show: A Celebration of Student Talent and Creativity
DESCRIPTION:Join us for the Waco ISD District Art Show at Art Center Waco! \nCelebrate the creativity and talent of student artists from across the district\, with works from elementary through secondary schools on view. \nExhibition Dates: May 5–16Opening Reception: May 5 \nEnjoy an evening of art\, awards\, food trucks\, and community.
URL:https://artcenterwaco.org/event/wisd-district-art-show-a-celebration-of-student-talent-and-creativity/
LOCATION:Art Center Waco\, 701 S 8th Street\, Waco\, 76706\, United States
CATEGORIES:Exhibits,Kids,Teachers
ATTACH;FMTTYPE=image/jpeg:https://artcenterwaco.org/wp-content/uploads/2026/04/wisd-2026.jpg
ORGANIZER;CN="Staff":MAILTO:info@artcenterwaco.org
END:VEVENT
END:VCALENDAR