BEGIN:VCALENDAR
VERSION:2.0
PRODID:-//Art Center Waco - ECPv6.15.20//NONSGML v1.0//EN
CALSCALE:GREGORIAN
METHOD:PUBLISH
X-WR-CALNAME:Art Center Waco
X-ORIGINAL-URL:https://artcenterwaco.org
X-WR-CALDESC:Events for Art Center Waco
REFRESH-INTERVAL;VALUE=DURATION:PT1H
X-Robots-Tag:noindex
X-PUBLISHED-TTL:PT1H
BEGIN:VTIMEZONE
TZID:America/Chicago
BEGIN:DAYLIGHT
TZOFFSETFROM:-0600
TZOFFSETTO:-0500
TZNAME:CDT
DTSTART:20250309T080000
END:DAYLIGHT
BEGIN:STANDARD
TZOFFSETFROM:-0500
TZOFFSETTO:-0600
TZNAME:CST
DTSTART:20251102T070000
END:STANDARD
BEGIN:DAYLIGHT
TZOFFSETFROM:-0600
TZOFFSETTO:-0500
TZNAME:CDT
DTSTART:20260308T080000
END:DAYLIGHT
BEGIN:STANDARD
TZOFFSETFROM:-0500
TZOFFSETTO:-0600
TZNAME:CST
DTSTART:20261101T070000
END:STANDARD
BEGIN:DAYLIGHT
TZOFFSETFROM:-0600
TZOFFSETTO:-0500
TZNAME:CDT
DTSTART:20270314T080000
END:DAYLIGHT
BEGIN:STANDARD
TZOFFSETFROM:-0500
TZOFFSETTO:-0600
TZNAME:CST
DTSTART:20271107T070000
END:STANDARD
END:VTIMEZONE
BEGIN:VEVENT
DTSTART;TZID=America/Chicago:20260427T170000
DTEND;TZID=America/Chicago:20260427T183000
DTSTAMP:20260424T163351
CREATED:20260424T175029Z
LAST-MODIFIED:20260424T175405Z
UID:7215-1777309200-1777314600@artcenterwaco.org
SUMMARY:From Hermes to Home Opening Reception At The Waco Welcome Center
DESCRIPTION:Please join Art Center Waco\, Creative Waco\, and Destination Waco at the Waco Welcome Center for a reception honoring the artists and opening this new exhibit. \nThis exhibition brings together the work of artist Kermit Oliver with that of artists Cade Kegerreis and Vincent Thomas\, whom he mentored at a formative moment in their lives. All three artists are based in Waco: Oliver is an internationally renowned painter and the only American artist to design for the Paris fashion house Hermès. Kegerreis and Thomas are rising stars whose public art is visibly shaping Waco’s cultural story. \nThe exhibit features some of Oliver’s iconic Hermès scarf designs\, with self-portraits and paintings by all three artists\, highlighting the transmission of artistic vision across generations. Oliver’s deeply symbolic work—rooted in faith\, mythology\, and folklore—finds echoes in the work of these younger artists\, who now shape Waco’s cultural landscape through their own practices. \nAt its heart\, From Hermès to Home is a story of influence\, mentorship\, and legacy—honoring an artist whose quiet impact continues to resonate far beyond the studio\, and whose presence ripples through the creative life of this community.
URL:https://artcenterwaco.org/event/fromhermestohome/
LOCATION:Waco Welcome Center\, 323 S 6th St Suite 100\, Waco\, 76701\, United States
CATEGORIES:Adults,Exhibits
ATTACH;FMTTYPE=image/jpeg:https://artcenterwaco.org/wp-content/uploads/2026/04/screenshot-2026-04-24-at-12.43.56-pm.jpg
ORGANIZER;CN="Executive Director":MAILTO:director@artcenterwaco.org
END:VEVENT
END:VCALENDAR